BEGIN:VCALENDAR
VERSION:2.0
PRODID:-//ChamberMaster//Event Calendar 2.0//EN
METHOD:PUBLISH
X-PUBLISHED-TTL:P3D
REFRESH-INTERVAL:P3D
CALSCALE:GREGORIAN
BEGIN:VEVENT
DTSTART:20190302T150000Z
DTEND:20190303T030000Z
X-MICROSOFT-CDO-ALLDAYEVENT:FALSE
SUMMARY:Urban Air Adventure Park Grand Opening
DESCRIPTION:Urban Air Adventure Park is pleased to announce the grand opening of the new East Norriton location at 2700 Dekalb Pike\, East Norriton\, PA 19401. Doors will open to the public for the first time on Saturday\, March 2nd at 10 am. Come early and line up! The first 200 grand opening attendees in line\, who purchase the Ultimate Pass\, will receive a free basic access pass for one year. Join Jared and Q102 on site\, as they help kick off our Grand Opening\, Saturday 8-10 am. Guests will enjoy music\, outdoor heated tent\, coffee\, hot chocolate\, donuts\, pastries and more! See you Saturday!
X-ALT-DESC;FMTTYPE=text/html:Urban Air Adventure Park is pleased to announce the grand opening of the new East Norriton location at 2700 Dekalb Pike\, East Norriton\, PA 19401. Doors will open to the public for the first time on Saturday\, March 2nd at 10 am. Come early and line up! The first 200 grand opening attendees in line\, who purchase the Ultimate Pass\, will receive a free basic access pass for one year. Join Jared and Q102 on site\, as they help kick off our Grand Opening\, Saturday 8-10 am. Guests will enjoy music\, outdoor heated tent\, coffee\, hot chocolate\, donuts\, pastries and more! See you Saturday!
LOCATION:2700 Dekalb Pike East Norriton\, PA 19401
UID:e.2385.8633
SEQUENCE:3
DTSTAMP:20260422T083032Z
URL:https://business.chambergmc.org/events/details/urban-air-adventure-park-grand-opening-8633
END:VEVENT

END:VCALENDAR
