BEGIN:VCALENDAR
VERSION:2.0
PRODID:-//ChamberMaster//Event Calendar 2.0//EN
METHOD:PUBLISH
X-PUBLISHED-TTL:P3D
REFRESH-INTERVAL:P3D
CALSCALE:GREGORIAN
BEGIN:VEVENT
DTSTART:20180211T160000Z
DTEND:20180211T180000Z
X-MICROSOFT-CDO-ALLDAYEVENT:FALSE
SUMMARY:Valentine’s Cheese & Ale Event
DESCRIPTION:At 11 am\, come sample our beer-battered cod with a beer cheese fondue! At noon\, we'll have an on-tap beer tasting in our Beer Garden. Sign up at Blue Bell Customer Service or with Georgia\, our Cheese Department Manager: Gbuono@mccaffreys.com.
X-ALT-DESC;FMTTYPE=text/html:At 11 am\, come sample our beer-battered cod with a beer cheese fondue! At noon\, we&rsquo\;ll have an on-tap beer tasting in our Beer Garden. Sign up at Blue Bell Customer Service or with Georgia\, our Cheese Department Manager: Gbuono@mccaffreys.com.
LOCATION:McCaffrey's Blue Bell Market
UID:e.2385.3002
SEQUENCE:3
DTSTAMP:20260421T160555Z
URL:https://business.chambergmc.org/events/details/valentine-s-cheese-ale-event-02-11-2018-3002
END:VEVENT

END:VCALENDAR
