BEGIN:VCALENDAR
VERSION:2.0
PRODID:-//ChamberMaster//Event Calendar 2.0//EN
METHOD:PUBLISH
X-PUBLISHED-TTL:P3D
REFRESH-INTERVAL:P3D
CALSCALE:GREGORIAN
BEGIN:VEVENT
DTSTART;VALUE=DATE:20200214
DTEND;VALUE=DATE:20200215
TRANSP:TRANSPARENT
X-MICROSOFT-CDO-ALLDAYEVENT:TRUE
SUMMARY:Valentine’s Day at El Sarape Blue Bell
DESCRIPTION:We are taking reservations for Valentine's Day. Make your reservation for a romantic evening with us at El Sarape Blue Bell. We book up fast so call 215-822-8858 to make your reservations today.\n\n??????
X-ALT-DESC;FMTTYPE=text/html:<div><span style="color:rgb(28\, 30\, 33)\; font-family:helvetica\,arial\,sans-serif\; font-size:14px"><span style="font-family:inherit">We are taking reservations for Valentine&rsquo\;s Day.&nbsp\;</span></span><span style="color:rgb(28\, 30\, 33)\; font-family:helvetica\,arial\,sans-serif\; font-size:14px"><span style="font-family:inherit">Make your reservation for a romantic evening with us at El Sarape Blue Bell.&nbsp\;</span></span><span style="color:rgb(28\, 30\, 33)\; font-family:helvetica\,arial\,sans-serif\; font-size:14px"><span style="font-family:inherit">We book up fast so call 215-822-8858 to make your reservations today.</span></span></div>\n\n<div><span style="color:rgb(28\, 30\, 33)\; font-family:helvetica\,arial\,sans-serif\; font-size:14px"><span style="color:transparent\; font-family:inherit"><span style="font-family:inherit">????</span></span></span><span style="color:rgb(28\, 30\, 33)\; font-family:helvetica\,arial\,sans-serif\; font-size:14px"><span style="color:transparent\; font-family:inherit"><span style="font-family:inherit">??</span></span></span></div>\n
LOCATION:970 DEKALB PIKE BLUE BELL\, PA 19422
UID:e.2385.10228
SEQUENCE:3
DTSTAMP:20260423T121148Z
URL:https://business.chambergmc.org/events/details/valentine-s-day-at-el-sarape-blue-bell-10228
END:VEVENT

END:VCALENDAR
