BEGIN:VCALENDAR
VERSION:2.0
PRODID:-//ChamberMaster//Event Calendar 2.0//EN
METHOD:PUBLISH
X-PUBLISHED-TTL:P3D
REFRESH-INTERVAL:P3D
CALSCALE:GREGORIAN
BEGIN:VEVENT
DTSTART:20190201T233000Z
DTEND:20190202T003000Z
X-MICROSOFT-CDO-ALLDAYEVENT:FALSE
SUMMARY:Floral & Hardy Valentine's Day Succulents & Savory Night
DESCRIPTION:Join us at Floral & Hardy for this NEW winter event!  Enjoy a night of succulents\, sipping and sampling savory dishes!! S&B Events Concepts and Catering (Collegeville\, PA) will be co-hosting and serving two delicious appetizers plus a desert:  \n\n\n	Easy Loved Shrimp\n	Sriracha Mac & Cheese Bites\n	Mini Brownie Sundae \n\n\nWe'll have fun planting mini succulents in a Valentine's Day container while sampling the food!  Complimentary wine will be provided or bring your own favorite beverage.  Sip\, sample and socialize with friends!  Cost is $30 plus tax (total of $31.80). \n\nPlease RSVP: \n\nhttp://floralandhardyofskippack.com/events/valentines-day-succulents-savory-night/
X-ALT-DESC;FMTTYPE=text/html:<p style="margin-left:0px\; margin-right:0px\; text-align:justify"><span style="font-family:arial\,helvetica\,sans-serif">Join us at Floral &amp\; Hardy for this NEW winter event!&nbsp\; Enjoy a night of succulents\, sipping and sampling savory dishes!! S&amp\;B Events Concepts and Catering (Collegeville\, PA) will be co-hosting and serving two delicious appetizers plus a desert: &nbsp\;</span></p>\n\n<ul>\n	<li style="text-align:left"><span style="font-family:arial\,helvetica\,sans-serif">Easy Loved Shrimp</span></li>\n	<li style="text-align:left"><span style="font-family:arial\,helvetica\,sans-serif">Sriracha Mac &amp\; Cheese Bites</span></li>\n	<li style="text-align:left"><span style="font-family:arial\,helvetica\,sans-serif">Mini Brownie Sundae&nbsp\;</span></li>\n</ul>\n\n<p style="margin-left:0px\; margin-right:0px\; text-align:justify"><span style="font-family:arial\,helvetica\,sans-serif">We&rsquo\;ll have fun planting mini succulents in a Valentine&rsquo\;s Day container while sampling the food!&nbsp\; Complimentary wine will be provided or bring your own favorite beverage.&nbsp\; Sip\, sample and socialize with friends!&nbsp\; Cost is $30 plus tax (total of $31.80). </span></p>\n\n<p style="margin-left:0px\; margin-right:0px">Please RSVP:&nbsp\;<br />\n<a href="http://floralandhardyofskippack.com/events/valentines-day-succulents-savory-night/">http://floralandhardyofskippack.com/events/valentines-day-succulents-savory-night/</a></p>\n
LOCATION:Floral & Hardy 4007 Skippack Pike Skippack\, PA 19474
UID:e.2385.8131
SEQUENCE:3
DTSTAMP:20260422T082835Z
URL:https://business.chambergmc.org/events/details/valentine-s-day-succulents-savory-night-8131
END:VEVENT

END:VCALENDAR
