BEGIN:VCALENDAR
VERSION:2.0
PRODID:-//ChamberMaster//Event Calendar 2.0//EN
METHOD:PUBLISH
X-PUBLISHED-TTL:P3D
REFRESH-INTERVAL:P3D
CALSCALE:GREGORIAN
BEGIN:VEVENT
DTSTART:20201010T143000Z
DTEND:20201010T173000Z
X-MICROSOFT-CDO-ALLDAYEVENT:FALSE
SUMMARY:Variety Fall Fest
DESCRIPTION:This fall festival is held at Variety's 77-acre campus. Guests can expect sensory-friendly trick or treating and haunted forest\, allergy-friendly hayride\, live music\, baked good\, and character story time and theater. Masks are required. If not able to attend in person\, virtual guests can show support by "climbing" the tallest building in Philly by walking\, running or biking the equivalent of 57 stories for a good cause. Guests can sign up at varietyphila.org/climb.
X-ALT-DESC;FMTTYPE=text/html:This fall festival is held at Variety&#39\;s 77-acre campus. Guests can expect sensory-friendly trick or treating and haunted forest\, allergy-friendly hayride\, live music\, baked good\, and character story time and theater. Masks are required. If not able to attend in person\, virtual guests can show support by &quot\;climbing&quot\; the tallest building in Philly by walking\, running or biking the equivalent of 57 stories for a good cause. Guests can sign up at varietyphila.org/climb.
LOCATION:Variety-the Children's Charity 2950 Potshop Road Worecester\, PA 19490
UID:e.2385.10751
SEQUENCE:3
DTSTAMP:20260423T013822Z
URL:https://business.chambergmc.org/events/details/variety-fall-fest-10751
END:VEVENT

END:VCALENDAR
