BEGIN:VCALENDAR
VERSION:2.0
PRODID:-//ChamberMaster//Event Calendar 2.0//EN
METHOD:PUBLISH
X-PUBLISHED-TTL:P3D
REFRESH-INTERVAL:P3D
CALSCALE:GREGORIAN
BEGIN:VEVENT
DTSTART:20180522T160000Z
DTEND:20180522T180000Z
X-MICROSOFT-CDO-ALLDAYEVENT:FALSE
SUMMARY:Vault Storage Ribbon Cutting
DESCRIPTION:Join us for our Grand Opening/Open House.\n\n	Light Refreshments\n	Raffles to win storage\n	Tours of the facility
X-ALT-DESC;FMTTYPE=text/html:Join us for our Grand Opening/Open House.\n<ul>\n	<li>Light Refreshments</li>\n	<li>Raffles to win storage</li>\n	<li>Tours of the facility</li>\n</ul>\n
LOCATION:212 Church Road\, North Wales\, PA
UID:e.2385.6638
SEQUENCE:3
DTSTAMP:20260421T190347Z
URL:https://business.chambergmc.org/events/details/vault-storage-ribbon-cutting-05-22-2018-6638
END:VEVENT

END:VCALENDAR
