BEGIN:VCALENDAR
VERSION:2.0
PRODID:-//ChamberMaster//Event Calendar 2.0//EN
METHOD:PUBLISH
X-PUBLISHED-TTL:P3D
REFRESH-INTERVAL:P3D
CALSCALE:GREGORIAN
BEGIN:VEVENT
DTSTART:20190406T230000Z
DTEND:20190407T030000Z
X-MICROSOFT-CDO-ALLDAYEVENT:FALSE
SUMMARY:Vegas at Variety
DESCRIPTION:Join Variety for the 10th Annual Vegas at Variety fundraiser! This fun-filled event includes a buffet and drinks\, casino games (craps\, roulette\, and blackjack)\, DJ\, craft beer tasting\, photo booth\, and prizes! We will also be celebrating our 2019 Ace of Variety\, Hogs and Honeys\, for their dedication and support to Variety. Tickets are $45 in advance and $55 at the door. Tickets include food\, beverages\, and $25 in chips. Chips will be exchanged for prize drawing tickets. Prizes include autographed Eagles items\, overnight stay at Dover Downs Hotel and Casino\, Wheel of Fortune tickets\, dinner for 10 at Lansdale's Ristorante Toscano\, golf outings\, sports tickets\, and more! Must be 18 or older to attend.
X-ALT-DESC;FMTTYPE=text/html:Join Variety for the 10th Annual Vegas at Variety fundraiser! This fun-filled event includes a buffet and drinks\, casino games (craps\, roulette\, and blackjack)\, DJ\, craft beer tasting\, photo booth\, and prizes! We will also be celebrating our 2019 Ace of Variety\, Hogs and Honeys\, for their dedication and support to Variety. Tickets are $45 in advance and $55 at the door. Tickets include food\, beverages\, and $25 in chips. Chips will be exchanged for prize drawing tickets. Prizes include autographed Eagles items\, overnight stay at Dover Downs Hotel and Casino\, Wheel of Fortune tickets\, dinner for 10 at Lansdale&#39\;s Ristorante Toscano\, golf outings\, sports tickets\, and more! Must be 18 or older to attend.
LOCATION:College Hall at Montgomery County Community College 340 DeKalb Pike Blue Bell\, PA 19422
UID:e.2385.8670
SEQUENCE:3
DTSTAMP:20260422T094522Z
URL:https://business.chambergmc.org/events/details/vegas-at-variety-8670
END:VEVENT

END:VCALENDAR
