BEGIN:VCALENDAR
VERSION:2.0
PRODID:-//ChamberMaster//Event Calendar 2.0//EN
METHOD:PUBLISH
X-PUBLISHED-TTL:P3D
REFRESH-INTERVAL:P3D
CALSCALE:GREGORIAN
BEGIN:VEVENT
DTSTART:20180405T223000Z
DTEND:20180406T013000Z
X-MICROSOFT-CDO-ALLDAYEVENT:FALSE
SUMMARY:Vendors and Vino
DESCRIPTION:Shopping and Wine. Does it get any better than this. Free admission to our vendor event at the winery
X-ALT-DESC;FMTTYPE=text/html:Shopping and Wine. Does it get any better than this. Free admission to our vendor event at the winery
LOCATION:Cardinal Hollow Winery 1830 West Point Pike Lansdale\, PA 19446
UID:e.2385.4297
SEQUENCE:3
DTSTAMP:20260421T174608Z
URL:https://business.chambergmc.org/events/details/vendors-and-vino-04-05-2018-4297
END:VEVENT

END:VCALENDAR
