BEGIN:VCALENDAR
VERSION:2.0
PRODID:-//ChamberMaster//Event Calendar 2.0//EN
METHOD:PUBLISH
X-PUBLISHED-TTL:P3D
REFRESH-INTERVAL:P3D
CALSCALE:GREGORIAN
BEGIN:VEVENT
DTSTART:20190920T150000Z
DTEND:20190920T170000Z
X-MICROSOFT-CDO-ALLDAYEVENT:FALSE
SUMMARY:Veterans Discount Photo ID Card Discharge Recording Program
DESCRIPTION:Montgomery County Recorded of Deeds Jeanne Sorg \n\nVeterans Discount Photo ID Card Discharge Recording Program\n\n \n\nReceive Discounts for Montgomery County Goods and Services\n\nFriday September 20th 2019           11:00am - 1:00pm\n\nGreenfield Senior Living of Lansdale\n\n1800 Walnut Street\, Lansdale\, Pa 19446\n\n \n\nVeterans must bring their DD 214 (military discharge papers) and a photo identification (such as a driver's license) and will receive their Montgomery County Discount Identification Card in MINUTES!
X-ALT-DESC;FMTTYPE=text/html:<p style="text-align: center\;"><span style="font-size:18px"><strong><span style="font-family:arial\,helvetica\,sans-serif">Montgomery County Recorded of Deeds Jeanne Sorg&nbsp\;<br />\nVeterans Discount Photo ID Card Discharge Recording Program</span></strong></span></p>\n\n<p>&nbsp\;</p>\n\n<p style="text-align: center\;"><strong><span style="font-size:14px">Receive Discounts for Montgomery County Goods and Services<br />\nFriday September 20th 2019 &nbsp\; &nbsp\; &nbsp\; &nbsp\; &nbsp\; 11:00am - 1:00pm</span></strong></p>\n\n<p style="text-align: center\;"><strong><span style="font-size:14px"><span style="font-size:20px">Greenfield Senior Living of Lansdale<br />\n1800 Walnut Street\, Lansdale\, Pa 19446</span></span></strong><br />\n&nbsp\;</p>\n\n<p><span style="font-size:16px">Veterans must bring their DD 214 (military discharge papers) and a photo identification (such as a driver&#39\;s license) and will receive their Montgomery County Discount Identification Card in MINUTES!</span><br />\n<br />\n&nbsp\;</p>\n\n<p>&nbsp\;</p>\n\n<p>&nbsp\;</p>\n\n<p>&nbsp\;</p>\n
LOCATION:Greenfield Senior Living of Lansdale 1800 Walnut Street\, Lansdale
UID:e.2385.10108
SEQUENCE:3
DTSTAMP:20260423T182459Z
URL:https://business.chambergmc.org/events/details/veterans-discount-photo-id-card-discharge-recording-program-10108
END:VEVENT

END:VCALENDAR
