BEGIN:VCALENDAR
VERSION:2.0
PRODID:-//ChamberMaster//Event Calendar 2.0//EN
METHOD:PUBLISH
X-PUBLISHED-TTL:P3D
REFRESH-INTERVAL:P3D
CALSCALE:GREGORIAN
BEGIN:VEVENT
DTSTART:20210414T220000Z
DTEND:20210414T230000Z
X-MICROSOFT-CDO-ALLDAYEVENT:FALSE
SUMMARY:Virtual Earth Day Action Happy Hour
DESCRIPTION:We are coming together with State Senator Nikil Saval from PA's first district to discuss how to take action this Earth Day! Join us on Wednesday April 14th at 6pm on Zoom. RSVP: https://bit.ly/EarthDayHappyHour
X-ALT-DESC;FMTTYPE=text/html:We are coming together with State Senator Nikil Saval from PA&#39\;s first district to discuss how to take action this Earth Day! Join us on Wednesday April 14th at 6pm on Zoom. RSVP: https://bit.ly/EarthDayHappyHour
LOCATION:Zoom
UID:e.2385.11071
SEQUENCE:3
DTSTAMP:20260422T171134Z
URL:https://business.chambergmc.org/events/details/virtual-earth-day-action-happy-hour-11071
END:VEVENT

END:VCALENDAR
