BEGIN:VCALENDAR
VERSION:2.0
PRODID:-//ChamberMaster//Event Calendar 2.0//EN
METHOD:PUBLISH
X-PUBLISHED-TTL:P3D
REFRESH-INTERVAL:P3D
CALSCALE:GREGORIAN
BEGIN:VEVENT
DTSTART:20190306T140000Z
DTEND:20190306T140000Z
X-MICROSOFT-CDO-ALLDAYEVENT:FALSE
SUMMARY:Walk In Wednesday's at Monarch Staffing
DESCRIPTION:WALK-IN WEDNESDAY'S ARE HERE!!      \n\nTypes of positions we fill\, Customer Service\, Admin Assistant\, Call Center\, Front Desk\, Medical Billing\, Data Entry\, Accounting\, Legal\, Purchasing\, Marketing\n\nLooking for a new job? \n\nCome on in and join us on Wednesday's between 9am-3pm. \n\nWhat to bring:                                    \n\n	A copy of your resume\n	Two forms of ID\n	A good attitiude and handshake\n\nCheck out our Website for open positions www.MonarchStaffing.com \n\n\n\nMonarch Staffing 482 Norristown Rd\, Ste 110\, Blue Bell\, PA 19422
X-ALT-DESC;FMTTYPE=text/html:<span style="color:#000080"><strong>WALK-IN WEDNESDAY&#39\;S ARE HERE!!&nbsp\; &nbsp\; &nbsp\; </strong></span><br />\n<span style="color:#000000"><strong>Types of positions we fill\, Customer Service\, Admin Assistant\, Call Center\, Front Desk\, Medical Billing\, Data Entry\, Accounting\, Legal\, Purchasing\, Marketing<br />\nLooking for a new job?&nbsp\;<br />\nCome on in and join us on Wednesday&#39\;s between 9am-3pm.&nbsp\;<br />\nWhat to bring:&nbsp\; &nbsp\; &nbsp\; &nbsp\; &nbsp\; &nbsp\; &nbsp\; &nbsp\; &nbsp\; &nbsp\; &nbsp\; &nbsp\; &nbsp\; &nbsp\; &nbsp\; &nbsp\; &nbsp\; &nbsp\;&nbsp\;</strong></span>\n<ul>\n	<li><strong><span style="color:#000000">A copy of your resume</span></strong></li>\n	<li><strong><span style="color:#000000">Two forms of ID</span></strong></li>\n	<li><strong><span style="color:#000000">A good attitiude and handshake</span></strong></li>\n</ul>\n<span style="color:#000000"><strong>Check out our Website for open positions www.MonarchStaffing.com&nbsp\;<br />\n<br />\nMonarch Staffing 482 Norristown Rd\, Ste 110\, Blue Bell\, PA 19422</strong></span>
LOCATION:Monarch Staffing 482 Norristown Rd\, Ste 110\, Blue Bell\, PA 19422
UID:e.2385.8206
SEQUENCE:3
DTSTAMP:20260422T082930Z
URL:https://business.chambergmc.org/events/details/walk-in-wednesday-s-at-monarch-staffing-8206
END:VEVENT

END:VCALENDAR
