BEGIN:VCALENDAR
VERSION:2.0
PRODID:-//ChamberMaster//Event Calendar 2.0//EN
METHOD:PUBLISH
X-PUBLISHED-TTL:P3D
REFRESH-INTERVAL:P3D
CALSCALE:GREGORIAN
BEGIN:VEVENT
DTSTART:20250201T150000Z
DTEND:20250201T203000Z
X-MICROSOFT-CDO-ALLDAYEVENT:FALSE
SUMMARY:Weathering the Winter
DESCRIPTION:Saturday\, February 1 from 10:00 am to 3:30 pm Weathering the Winter Winters were harsh in the 18th century\, but even in cold and snowy weather there was still plenty of work to do around the farm. Fires had to be built\, food preserved and cooked\, and animals needed tending. Visit the Farmstead on February 1st to watch our living historians demonstrate the types of farm chores a family like the Wentzes would have had to do this time of year. Watch as meat and other provisions are cured and preserved in the Smokehouse\, check out a cooking demonstration in the Summer Kitchen\, and more! All ages\; Free.
X-ALT-DESC;FMTTYPE=text/html:Saturday\, February 1 from 10:00 am to 3:30 pm Weathering the Winter Winters were harsh in the 18th century\, but even in cold and snowy weather there was still plenty of work to do around the farm. Fires had to be built\, food preserved and cooked\, and animals needed tending. Visit the Farmstead on February 1st to watch our living historians demonstrate the types of farm chores a family like the Wentzes would have had to do this time of year. Watch as meat and other provisions are cured and preserved in the Smokehouse\, check out a cooking demonstration in the Summer Kitchen\, and more! All ages\; Free.
LOCATION:Peter Wentz Farmstead 2030 Shearer Road Lansdale\, PA 19446
UID:e.2385.12097
SEQUENCE:3
DTSTAMP:20260421T082505Z
URL:https://business.chambergmc.org/events/details/weathering-the-winter-12097
END:VEVENT

END:VCALENDAR
