BEGIN:VCALENDAR
VERSION:2.0
PRODID:-//ChamberMaster//Event Calendar 2.0//EN
METHOD:PUBLISH
X-PUBLISHED-TTL:P3D
REFRESH-INTERVAL:P3D
CALSCALE:GREGORIAN
BEGIN:VEVENT
DTSTART:20180110T180000Z
DTEND:20180110T190000Z
X-MICROSOFT-CDO-ALLDAYEVENT:FALSE
SUMMARY:Webinar: Annual State of the Union for Group Benefits
DESCRIPTION:What the health insurance carriers are telling us... and what you need to know!
X-ALT-DESC;FMTTYPE=text/html:What the health insurance carriers are telling us... and what you need to know!
LOCATION:Webinar
UID:e.2385.2973
SEQUENCE:3
DTSTAMP:20260421T133902Z
URL:https://business.chambergmc.org/events/details/webinar-annual-state-of-the-union-for-group-benefits-01-10-2018-2973
END:VEVENT

END:VCALENDAR
