BEGIN:VCALENDAR
VERSION:2.0
PRODID:-//ChamberMaster//Event Calendar 2.0//EN
METHOD:PUBLISH
X-PUBLISHED-TTL:P3D
REFRESH-INTERVAL:P3D
CALSCALE:GREGORIAN
BEGIN:VEVENT
DTSTART:20180405T163000Z
DTEND:20180405T173000Z
X-MICROSOFT-CDO-ALLDAYEVENT:FALSE
SUMMARY:Webinar: Tax Cuts and Jobs Act- Impact on Individuals and Businesses
DESCRIPTION:At no cost to you... join Tycor and learn the new rules on taxes so you're prepared! - Find out how tax law changes impact you and your business. -Capitalize on opportunities to save. -A case for tax diversification. Register today at events@tycorbenefit.com
X-ALT-DESC;FMTTYPE=text/html:At no cost to you... join Tycor and learn the new rules on taxes so you&#39\;re prepared! - Find out how tax law changes impact you and your business. -Capitalize on opportunities to save. -A case for tax diversification. Register today at events@tycorbenefit.com
LOCATION:Webinar
UID:e.2385.5307
SEQUENCE:3
DTSTAMP:20260421T175305Z
URL:https://business.chambergmc.org/events/details/webinar-tax-cuts-and-jobs-act-impact-on-individuals-and-businesses-04-05-2018-5307
END:VEVENT

END:VCALENDAR
