BEGIN:VCALENDAR
VERSION:2.0
PRODID:-//ChamberMaster//Event Calendar 2.0//EN
METHOD:PUBLISH
X-PUBLISHED-TTL:P3D
REFRESH-INTERVAL:P3D
CALSCALE:GREGORIAN
BEGIN:VEVENT
DTSTART:20181020T120000Z
DTEND:20181020T150000Z
X-MICROSOFT-CDO-ALLDAYEVENT:FALSE
SUMMARY:Wells Street Open Space Cleanup
DESCRIPTION:Join the Whitemarsh Township Parks and Recreation team to help restore the Wells Street Open Space! Volunteers will be picking up trash\, removing brush\, and helping to beautify the open space overall! All volunteers will receive a free t-shirt\, and service learning hours for school or service requirements. If you are bringing a group of over 5 people please contact the Department at 610-828-7276. For more information visit our website at www.whitemarshparks.org The open space is located across the street from Cedar Grove Park (100 Cedar Grove Road\, Conshohocken)
X-ALT-DESC;FMTTYPE=text/html:Join the Whitemarsh Township Parks and Recreation team to help restore the Wells Street Open Space! Volunteers will be picking up trash\, removing brush\, and helping to beautify the open space overall! All volunteers will receive a free t-shirt\, and service learning hours for school or service requirements. If you are bringing a group of over 5 people please contact the Department at 610-828-7276. For more information visit our website at www.whitemarshparks.org The open space is located across the street from Cedar Grove Park (100 Cedar Grove Road\, Conshohocken)
LOCATION:Wells Street Open Space\, across from Cedar Grove Park
UID:e.2385.8051
SEQUENCE:3
DTSTAMP:20260422T014422Z
URL:https://business.chambergmc.org/events/details/wells-street-open-space-cleanup-8051
END:VEVENT

END:VCALENDAR
