BEGIN:VCALENDAR
VERSION:2.0
PRODID:-//ChamberMaster//Event Calendar 2.0//EN
METHOD:PUBLISH
X-PUBLISHED-TTL:P3D
REFRESH-INTERVAL:P3D
CALSCALE:GREGORIAN
BEGIN:VEVENT
DTSTART:20160317T170000Z
DTEND:20160317T180000Z
X-MICROSOFT-CDO-ALLDAYEVENT:FALSE
SUMMARY:What You Need to Know About Stroke
DESCRIPTION:Join us for a free informational session to learn more about stroke. Grand View Health Stroke and Heart Failure Navigator\, Karen Lynott\, MSN\, will discuss the signs and symptoms and how to prevent a stroke from happening to you or your loved ones. Refreshments will be provided.
X-ALT-DESC;FMTTYPE=text/html:Join us for a free informational session to learn more about stroke. Grand View Health Stroke and Heart Failure Navigator\, Karen Lynott\, MSN\, will discuss the signs and symptoms and how to prevent a stroke from happening to you or your loved ones. Refreshments will be provided.
LOCATION:Montgomeryville Wegmans\, Conference Room\, 500 Montgomery Mall North Wales\, PA 19454
UID:e.2385.1520
SEQUENCE:3
DTSTAMP:20260421T123037Z
URL:https://business.chambergmc.org/events/details/what-you-need-to-know-about-stroke-03-17-2016-1520
END:VEVENT

END:VCALENDAR
