BEGIN:VCALENDAR
VERSION:2.0
PRODID:-//ChamberMaster//Event Calendar 2.0//EN
METHOD:PUBLISH
X-PUBLISHED-TTL:P3D
REFRESH-INTERVAL:P3D
CALSCALE:GREGORIAN
BEGIN:VEVENT
DTSTART:20180428T160000Z
DTEND:20180428T210000Z
X-MICROSOFT-CDO-ALLDAYEVENT:FALSE
SUMMARY:Whitemarsh Townshi Day 2018!!
DESCRIPTION:Join us for a day of family fun and celebration with local businesses & organizations\, games\, rides\, live music\, food\, and so much more! Purchase Township Day wristbands for unlimited access to rides\, games\, inflatables and more at the discounted price of $15.00 each ($20 at the door) at the Parks and Recreation office! Office hours are Monday-Friday 8:30am-4:30pm and are located at Koontz Park\, 2391 Harts Lane\, Lafayette Hill\, PA 19444. More information can be found at our website: www.whitemarshparks.org Sponsorship and vendor opportunities available - please call 610-828-7276
X-ALT-DESC;FMTTYPE=text/html:Join us for a day of family fun and celebration with local businesses &amp\; organizations\, games\, rides\, live music\, food\, and so much more! Purchase Township Day wristbands for unlimited access to rides\, games\, inflatables and more at the discounted price of $15.00 each ($20 at the door) at the Parks and Recreation office! Office hours are Monday-Friday 8:30am-4:30pm and are located at Koontz Park\, 2391 Harts Lane\, Lafayette Hill\, PA 19444. More information can be found at our website: www.whitemarshparks.org Sponsorship and vendor opportunities available - please call 610-828-7276
LOCATION:Victory Fields at Colonial School District
UID:e.2385.6318
SEQUENCE:3
DTSTAMP:20260421T174634Z
URL:https://business.chambergmc.org/events/details/whitemarsh-townshi-day-2018-04-28-2018-6318
END:VEVENT

END:VCALENDAR
