BEGIN:VCALENDAR
VERSION:2.0
PRODID:-//ChamberMaster//Event Calendar 2.0//EN
METHOD:PUBLISH
X-PUBLISHED-TTL:P3D
REFRESH-INTERVAL:P3D
CALSCALE:GREGORIAN
BEGIN:VEVENT
DTSTART:20180620T230000Z
DTEND:20180621T030000Z
X-MICROSOFT-CDO-ALLDAYEVENT:FALSE
SUMMARY:Whitemarsh Township Movies in the Park - Despicable Me 3
DESCRIPTION:Whitemarsh Township's Wednesday Evening Movies in the Parks! Despicable Me 3   Wednesday June 20th at Leeland Park 1216 Jones Street\, Conshohocken\, PA 19428 Join the Parks and Recreation staff for activities beginning at 7:00pm\, movie will begin at dusk. Bring a blanket\, beach chair\, and join your neighbors! Refreshments and dinner available for purchase *in the event of inclement weather\, movies will be held the following evening* Call the Parks and Recreation Department at 610-828-7276 with any questions!
X-ALT-DESC;FMTTYPE=text/html:Whitemarsh Township&rsquo\;s Wednesday Evening Movies in the Parks! Despicable Me 3 &ndash\; Wednesday June 20th at Leeland Park 1216 Jones Street\, Conshohocken\, PA 19428 Join the Parks and Recreation staff for activities beginning at 7:00pm\, movie will begin at dusk. Bring a blanket\, beach chair\, and join your neighbors! Refreshments and dinner available for purchase *in the event of inclement weather\, movies will be held the following evening* Call the Parks and Recreation Department at 610-828-7276 with any questions!
LOCATION:Leeland Park 1216 Jones Street Conshohocken\, PA 19428
UID:e.2385.6675
SEQUENCE:3
DTSTAMP:20260421T202417Z
URL:https://business.chambergmc.org/events/details/whitemarsh-township-movies-in-the-park-despicable-me-3-6675
END:VEVENT

END:VCALENDAR
