BEGIN:VCALENDAR
VERSION:2.0
PRODID:-//ChamberMaster//Event Calendar 2.0//EN
METHOD:PUBLISH
X-PUBLISHED-TTL:P3D
REFRESH-INTERVAL:P3D
CALSCALE:GREGORIAN
BEGIN:VEVENT
DTSTART:20180711T230000Z
DTEND:20180712T030000Z
X-MICROSOFT-CDO-ALLDAYEVENT:FALSE
SUMMARY:Whitemarsh Township Movies in the Park - Jumanji
DESCRIPTION:Whitemarsh Township's Wednesday Evening Movies in the Parks! Jumanji   Wednesday July 11th at Cedar Grove Park (100 Cedar Grove Road\, Conshohocken\, PA 19428) Join the Parks and Recreation staff for activities beginning at 7:00pm\, movie will begin at dusk once it is dark enough to play the movie. Bring a blanket\, beach chair\, and join your neighbors! Refreshments and dinner will be available for purchase *in the event of inclement weather\, movies will be held the following evening* Please call the Parks and Recreation Department at 610-828-7276 with any questions!
X-ALT-DESC;FMTTYPE=text/html:Whitemarsh Township&rsquo\;s Wednesday Evening Movies in the Parks! Jumanji &ndash\; Wednesday July 11th at Cedar Grove Park (100 Cedar Grove Road\, Conshohocken\, PA 19428) Join the Parks and Recreation staff for activities beginning at 7:00pm\, movie will begin at dusk once it is dark enough to play the movie. Bring a blanket\, beach chair\, and join your neighbors! Refreshments and dinner will be available for purchase *in the event of inclement weather\, movies will be held the following evening* Please call the Parks and Recreation Department at 610-828-7276 with any questions!
LOCATION:Cedar Grove Park 100 Cedar Grove Road Conshohocken\, PA 19428
UID:e.2385.6693
SEQUENCE:3
DTSTAMP:20260421T214735Z
URL:https://business.chambergmc.org/events/details/whitemarsh-township-movies-in-the-park-jumanji-6693
END:VEVENT

END:VCALENDAR
