BEGIN:VCALENDAR
VERSION:2.0
PRODID:-//ChamberMaster//Event Calendar 2.0//EN
METHOD:PUBLISH
X-PUBLISHED-TTL:P3D
REFRESH-INTERVAL:P3D
CALSCALE:GREGORIAN
BEGIN:VEVENT
DTSTART:20180627T230000Z
DTEND:20180628T030000Z
X-MICROSOFT-CDO-ALLDAYEVENT:FALSE
SUMMARY:Whitemarsh Twp Movies in the Park - Pete's Dragon
DESCRIPTION:Whitemarsh Township's Wednesday Evening Movies in the Parks! Pete's Dragon   Wednesday June 27th at The Highlands (7001 Sheaff Lane\, Fort Washington\, PA 19034) Join the Parks and Recreation staff for activities beginning at 7:00pm\, movie will begin at dusk once it is dark enough to play the movie. Bring a blanket\, beach chair\, and join your neighbors! Refreshments and dinner will be available for purchase *in the event of inclement weather\, movies will be held the following evening* Please call the Parks and Recreation Department at 610-828-7276 with any questions!
X-ALT-DESC;FMTTYPE=text/html:Whitemarsh Township&rsquo\;s Wednesday Evening Movies in the Parks! Pete&rsquo\;s Dragon &ndash\; Wednesday June 27th at The Highlands (7001 Sheaff Lane\, Fort Washington\, PA 19034) Join the Parks and Recreation staff for activities beginning at 7:00pm\, movie will begin at dusk once it is dark enough to play the movie. Bring a blanket\, beach chair\, and join your neighbors! Refreshments and dinner will be available for purchase *in the event of inclement weather\, movies will be held the following evening* Please call the Parks and Recreation Department at 610-828-7276 with any questions!
LOCATION:The Highlands: 7001 Sheaff Lane Fort Washington\, PA 19034
UID:e.2385.6676
SEQUENCE:3
DTSTAMP:20260421T214735Z
URL:https://business.chambergmc.org/events/details/whitemarsh-twp-movies-in-the-park-pete-s-dragon-6676
END:VEVENT

END:VCALENDAR
