BEGIN:VCALENDAR
VERSION:2.0
PRODID:-//ChamberMaster//Event Calendar 2.0//EN
METHOD:PUBLISH
X-PUBLISHED-TTL:P3D
REFRESH-INTERVAL:P3D
CALSCALE:GREGORIAN
BEGIN:VEVENT
DTSTART:20200208T160000Z
DTEND:20200208T190000Z
X-MICROSOFT-CDO-ALLDAYEVENT:FALSE
SUMMARY:Wine & Cheese Tasting
DESCRIPTION:McCaffrey's Wine & Cheese Tasting
X-ALT-DESC;FMTTYPE=text/html:McCaffrey&#39\;s Wine &amp\; Cheese Tasting<br />\n&nbsp\;
LOCATION:McCaffrey's Blue Bell Beer Caf Center Square Shopping Center 1301 Skippack Pike Blue Bell\, PA 19422
UID:e.2385.10246
SEQUENCE:3
DTSTAMP:20260423T120857Z
URL:https://business.chambergmc.org/events/details/wine-cheese-tasting-10246
END:VEVENT

END:VCALENDAR
