BEGIN:VCALENDAR
VERSION:2.0
PRODID:-//ChamberMaster//Event Calendar 2.0//EN
METHOD:PUBLISH
X-PUBLISHED-TTL:P3D
REFRESH-INTERVAL:P3D
CALSCALE:GREGORIAN
BEGIN:VEVENT
DTSTART:20180908T150000Z
DTEND:20180908T200000Z
X-MICROSOFT-CDO-ALLDAYEVENT:FALSE
SUMMARY:Wings N' Wheels
DESCRIPTION:You are invited to a family-fun day of wings\, wheels and aviation history including unique displays of vintage and military aircraft\, new planes and classic and antique cars. Sightseeing flights\, great food\, music and a number of children's activities will also be featured. Admission for adults is $8 in advance or $10 at the door\; and $5 for children ages 10 and under. Parking is free! All admissions fees are tax-deductible and will directly support the mission of Angel Flight East. Angel Flight East facilitates free air transportation for seriously ill patients who require medical treatment far from home and delivers supplies to disaster areas and reunites families in desperate times.
X-ALT-DESC;FMTTYPE=text/html:You are invited to a family-fun day of wings\, wheels and aviation history including unique displays of vintage and military aircraft\, new planes and classic and antique cars. Sightseeing flights\, great food\, music and a number of children&rsquo\;s activities will also be featured. Admission for adults is $8 in advance or $10 at the door\; and $5 for children ages 10 and under. Parking is free! All admissions fees are tax-deductible and will directly support the mission of Angel Flight East. Angel Flight East facilitates free air transportation for seriously ill patients who require medical treatment far from home and delivers supplies to disaster areas and reunites families in desperate times.
LOCATION:Wings Field 1501 Narcissa Road Blue Bell\, PA 19422
UID:e.2385.7848
SEQUENCE:3
DTSTAMP:20260422T002921Z
URL:https://business.chambergmc.org/events/details/wings-n-wheels-09-08-2018-7848
END:VEVENT

END:VCALENDAR
