BEGIN:VCALENDAR
VERSION:2.0
PRODID:-//ChamberMaster//Event Calendar 2.0//EN
METHOD:PUBLISH
X-PUBLISHED-TTL:P3D
REFRESH-INTERVAL:P3D
CALSCALE:GREGORIAN
BEGIN:VEVENT
DTSTART:20190623T160000Z
DTEND:20190623T193000Z
X-MICROSOFT-CDO-ALLDAYEVENT:FALSE
SUMMARY:Wireless Music Clinic
DESCRIPTION:Join us on Sunday\, June 23rd for an educational session of wireless streaming services and wireless streaming speakers - presented by Ben Morrow (WWS Installation and Programming Technician) and Kevin Wolff (Bowers & Wilkins) as our guest speakers.
X-ALT-DESC;FMTTYPE=text/html:Join us on Sunday\, June 23rd for an educational session of wireless streaming services and wireless streaming speakers - presented by Ben Morrow (WWS Installation and Programming Technician) and Kevin Wolff (Bowers &amp\; Wilkins) as our guest speakers.
LOCATION:World Wide Stereo\, 754 Pennsylvania 309\, Montgomeryville\, Pennsylvania 18936
UID:e.2385.8805
SEQUENCE:3
DTSTAMP:20260422T123443Z
URL:https://business.chambergmc.org/events/details/wireless-music-clinic-8805
END:VEVENT

END:VCALENDAR
