BEGIN:VCALENDAR
VERSION:2.0
PRODID:-//ChamberMaster//Event Calendar 2.0//EN
METHOD:PUBLISH
X-PUBLISHED-TTL:P3D
REFRESH-INTERVAL:P3D
CALSCALE:GREGORIAN
BEGIN:VEVENT
DTSTART:20180411T170000Z
DTEND:20180411T180000Z
X-MICROSOFT-CDO-ALLDAYEVENT:FALSE
SUMMARY:Women in Leadership "The Edge" Webinar Series
DESCRIPTION:Are you a woman in business juggling numerous priorities personally and professionally and trying to enhance your leadership and/or advance your career?\n\n \n\nJoin\n\nWomen in Leadership "The Edge"\n\nStarting 4/11\n\n \n\nWednesday's from 1-2 PM EST\n\n \n\nTopics Include:\n\n\n	Personality Type & Leadership\n	A Growth Mindset\n	7 Habits of Highly Effective Women\n	Invest in Yourself-Your Money Should "Make Money."\n	Transformational Leadership
X-ALT-DESC;FMTTYPE=text/html:<div><span style="color:#cc0099"><strong>Are you a woman in business juggling numerous priorities personally and professionally and trying to enhance your leadership and/or advance your career?</strong></span></div>\n\n<div>&nbsp\;</div>\n\n<div style="text-align:center"><strong>Join</strong></div>\n\n<div style="text-align:center"><span style="color:#ff00cc"><strong>Women in Leadership &quot\;</strong><cite><strong>The Edge&quot\;</strong></cite></span></div>\n\n<div style="text-align:center"><strong>Starting 4/11</strong></div>\n\n<div>&nbsp\;</div>\n\n<div style="text-align:center"><strong>Wednesday&#39\;s from 1-2 PM EST</strong></div>\n\n<div>&nbsp\;</div>\n\n<div><strong>Topics Include:</strong></div>\n\n<ul>\n	<li><strong><span style="color:#EE82EE"><span style="font-family:sylfaen\,book antiqua\,times new roman\,times\,serif">Personality Type &amp\; Leadership</span></span></strong></li>\n	<li><strong><span style="color:#EE82EE"><span style="font-family:sylfaen\,book antiqua\,times new roman\,times\,serif">A Growth Mindset</span></span></strong></li>\n	<li><strong><span style="color:#EE82EE"><span style="font-family:sylfaen\,book antiqua\,times new roman\,times\,serif">7 Habits of Highly Effective Women</span></span></strong></li>\n	<li><strong><span style="color:#EE82EE"><span style="font-family:sylfaen\,book antiqua\,times new roman\,times\,serif">Invest in Yourself-Your Money Should &quot\;Make Money.&quot\;</span></span></strong></li>\n	<li><strong><span style="color:#EE82EE"><span style="font-family:sylfaen\,book antiqua\,times new roman\,times\,serif">Transformational Leadership</span></span></strong></li>\n</ul>\n
LOCATION:Register Here: Personality Type & Leadership URL: https://attendee.gotowebinar.com/register/751050394510511874 Webinar ID: 256-907-043 A Growth Mindset URL: https://attendee.gotowebinar.com/register/5940181228148257282 Webinar ID: 736-096-883 Habits of Highly Effective Women URL: https://attendee.gotowebinar.com/register/1809586522454291714 Webinar ID: 658-942-947 Invest in Yourself-"Your Money Should "Make Money" URL: https://attendee.gotowebinar.com/register/4113816548110071810 Webinar ID: 660-209-507 Transformational Leadership URL: https://attendee.gotowebinar.com/register/1972851904551190530 Webinar ID: 697-047-275
UID:e.2385.6585
SEQUENCE:3
DTSTAMP:20260421T175033Z
URL:https://business.chambergmc.org/events/details/women-in-leadership-the-edge-webinar-series-04-11-2018-6585
END:VEVENT

END:VCALENDAR
