BEGIN:VCALENDAR
VERSION:2.0
PRODID:-//ChamberMaster//Event Calendar 2.0//EN
METHOD:PUBLISH
X-PUBLISHED-TTL:P3D
REFRESH-INTERVAL:P3D
CALSCALE:GREGORIAN
BEGIN:VEVENT
DTSTART:20171111T150000Z
DTEND:20171111T190000Z
X-MICROSOFT-CDO-ALLDAYEVENT:FALSE
SUMMARY:Working Hands 2017
DESCRIPTION:The Giving Tree\, a local 501(c)(3) nonprofit organization\, will host its 8th annual Working Hands event.  Carrying out its mission of teaching children the importance of community service and giving back\, the day will be filled with hands on activities and assembly line projects for children and teens (ages 5 through 18). \n\n\n\nAll projects will benefit individuals in need from various local charities. Examples include Manna on Main\, The North Penn Boys & Girls Club\, Souderton Meals on Wheels\, Keystone Opportunity Center\, various senior centers in the North Penn area and many others.  Projects will benefit homeless individuals\, families in need\, children in crisis\, local pediatric wards\, senior citizens among many others.
X-ALT-DESC;FMTTYPE=text/html:The Giving Tree\, a local 501(c)(3) nonprofit organization\, will host its 8<sup>th</sup> annual Working Hands event.&nbsp\; Carrying out its mission of teaching children the importance of community service and giving back\, the day will be filled with hands on activities and assembly line projects for children and teens (ages 5 through 18).&nbsp\;<br />\n<br />\nAll projects will benefit individuals in need from various local charities. Examples include Manna on Main\, The North Penn Boys &amp\; Girls Club\, Souderton Meals on Wheels\, Keystone Opportunity Center\, various senior centers in the North Penn area and many others.&nbsp\; Projects will benefit homeless individuals\, families in need\, children in crisis\, local pediatric wards\, senior citizens among many others.<br />\n&nbsp\;<br />\n<br />\n&nbsp\;
LOCATION:Wissahickon Middle School\, 500 Houston Road\, Ambler\, PA 19002
UID:e.2385.2644
SEQUENCE:3
DTSTAMP:20260421T110133Z
URL:https://business.chambergmc.org/events/details/working-hands-2017-11-11-2017-2644
END:VEVENT

END:VCALENDAR
