BEGIN:VCALENDAR
VERSION:2.0
PRODID:-//ChamberMaster//Event Calendar 2.0//EN
METHOD:PUBLISH
X-PUBLISHED-TTL:P3D
REFRESH-INTERVAL:P3D
CALSCALE:GREGORIAN
BEGIN:VEVENT
DTSTART;VALUE=DATE:20190321
DTEND;VALUE=DATE:20190325
TRANSP:TRANSPARENT
X-MICROSOFT-CDO-ALLDAYEVENT:TRUE
SUMMARY:Workwear Weekend Event
DESCRIPTION:VF Outlet invites you to celebrate the American Tradition Of Hard Work with 20% our Workwear Department. Brands include Dickies and Riggs by Wrangler.
X-ALT-DESC;FMTTYPE=text/html:VF Outlet invites you to celebrate the American Tradition Of Hard Work with 20% our Workwear Department. Brands include Dickies and Riggs by Wrangler.
LOCATION:VF Outlet 709 Rt 113 Souderton\, PA 18964
UID:e.2385.8667
SEQUENCE:3
DTSTAMP:20260422T082424Z
URL:https://business.chambergmc.org/events/details/workwear-weekend-event-8667
END:VEVENT

END:VCALENDAR
