BEGIN:VCALENDAR
VERSION:2.0
PRODID:-//ChamberMaster//Event Calendar 2.0//EN
METHOD:PUBLISH
X-PUBLISHED-TTL:P3D
REFRESH-INTERVAL:P3D
CALSCALE:GREGORIAN
BEGIN:VEVENT
DTSTART:20210408T230000Z
DTEND:20210409T001500Z
X-MICROSOFT-CDO-ALLDAYEVENT:FALSE
SUMMARY:World Premiere: A River Reborn
DESCRIPTION:World Premiere of A River Reborn: Thurs. April 8\, 7:00PM: Join PennEnvironment\, film director Ben Kalina\, and the Academy of Natural Sciences for the world premiere of the new documentary short film\, A River Reborn. This film tells the story of western Pennsylvania's Little Conemaugh River and the steps taken to restore it after decades of being told that it's "too polluted to recover." After viewing\, we'll be joined by the film's director and producer Ben Kalina and John Dawes\, who's been spearheading the cleanup efforts of the Little Conemaugh for a panel and Q&A. Unlike most of our events\, this one isn't free\, but PennEnvironment members get a special discounted rate of $7 for tickets. RSVP today!
X-ALT-DESC;FMTTYPE=text/html:World Premiere of A River Reborn: Thurs. April 8\, 7:00PM: Join PennEnvironment\, film director Ben Kalina\, and the Academy of Natural Sciences for the world premiere of the new documentary short film\, A River Reborn. This film tells the story of western Pennsylvania&rsquo\;s Little Conemaugh River and the steps taken to restore it after decades of being told that it&rsquo\;s &ldquo\;too polluted to recover.&rdquo\; After viewing\, we&rsquo\;ll be joined by the film&rsquo\;s director and producer Ben Kalina and John Dawes\, who&rsquo\;s been spearheading the cleanup efforts of the Little Conemaugh for a panel and Q&amp\;A. Unlike most of our events\, this one isn&rsquo\;t free\, but PennEnvironment members get a special discounted rate of $7 for tickets. RSVP today!
LOCATION:https://www.eventbrite.com/e/world-premiere-a-river-reborn-tickets-145922699723
UID:e.2385.11068
SEQUENCE:3
DTSTAMP:20260422T171145Z
URL:https://business.chambergmc.org/events/details/world-premiere-a-river-reborn-11068
END:VEVENT

END:VCALENDAR
