BEGIN:VCALENDAR
VERSION:2.0
PRODID:-//ChamberMaster//Event Calendar 2.0//EN
METHOD:PUBLISH
X-PUBLISHED-TTL:P3D
REFRESH-INTERVAL:P3D
CALSCALE:GREGORIAN
BEGIN:VEVENT
DTSTART:20181013T140000Z
DTEND:20181013T190000Z
X-MICROSOFT-CDO-ALLDAYEVENT:FALSE
SUMMARY:Wärme Sauna Studio's Grand Opening
DESCRIPTION:Please join us for W rme Sauna Studio's GRAND OPENING! There will be light refreshments\, a massage chair\, and free giveaways. Enjoy a single sauna session for $25 (originally $45). You can also enter to win free sauna sessions plus many other incentives! We hope that you can share our special day with us.
X-ALT-DESC;FMTTYPE=text/html:Please join us for W&auml\;rme Sauna Studio&#39\;s GRAND OPENING! There will be light refreshments\, a massage chair\, and free giveaways. Enjoy a single sauna session for $25 (originally $45). You can also enter to win free sauna sessions plus many other incentives! We hope that you can share our special day with us.
LOCATION:
UID:e.2385.8055
SEQUENCE:3
DTSTAMP:20260422T014611Z
URL:https://business.chambergmc.org/events/details/w&#228;rme-sauna-studio-s-grand-opening-10-13-2018-8055
END:VEVENT

END:VCALENDAR
