BEGIN:VCALENDAR
VERSION:2.0
PRODID:-//ChamberMaster//Event Calendar 2.0//EN
METHOD:PUBLISH
X-PUBLISHED-TTL:P3D
REFRESH-INTERVAL:P3D
CALSCALE:GREGORIAN
BEGIN:VEVENT
DTSTART:20180628T220000Z
DTEND:20180629T000000Z
X-MICROSOFT-CDO-ALLDAYEVENT:FALSE
SUMMARY:Yoga Class in the Winery
DESCRIPTION:Join us in the winery every 4th Thursday for an all levels yoga class. Lead by instructor Esther Sitrin\, this is a great way to relax and unwind. Plus\, enjoy a private hour of wine tasting after the winery closes. $15 a person includes 45 minutes of instruction and a flight of wine to enjoy after class. Call today to reserve your spot! While supplies last! Get a FREE ReCork recycled cork yoga block when your pre-purchase 9 yoga classes! Classes are held monthly\, the 4th Thursday of each month. Classes never expire! Block is a $20 value. Questions? Just ask in the tasting room and get signed up!
X-ALT-DESC;FMTTYPE=text/html:Join us in the winery every 4th Thursday for an all levels yoga class. Lead by instructor Esther Sitrin\, this is a great way to relax and unwind. Plus\, enjoy a private hour of wine tasting after the winery closes. $15 a person includes 45 minutes of instruction and a flight of wine to enjoy after class. Call today to reserve your spot! While supplies last! Get a FREE ReCork recycled cork yoga block when your pre-purchase 9 yoga classes! Classes are held monthly\, the 4th Thursday of each month. Classes never expire! Block is a $20 value. Questions? Just ask in the tasting room and get signed up!
LOCATION:Stone and Key Cellars 435 Doylestown Road Montgomeryville\, PA 18936
UID:e.2385.7705
SEQUENCE:3
DTSTAMP:20260421T201842Z
URL:https://business.chambergmc.org/events/details/yoga-class-in-the-winery-7705
END:VEVENT

END:VCALENDAR
