BEGIN:VCALENDAR
VERSION:2.0
PRODID:-//ChamberMaster//Event Calendar 2.0//EN
METHOD:PUBLISH
X-PUBLISHED-TTL:P3D
REFRESH-INTERVAL:P3D
CALSCALE:GREGORIAN
BEGIN:VEVENT
DTSTART:20241016T203000Z
DTEND:20241016T223000Z
X-MICROSOFT-CDO-ALLDAYEVENT:FALSE
SUMMARY:You're Invited to a Sneak Peek at our NEW Independent Living
DESCRIPTION:Independent Living in Lansdale\, Pennsylvania is Coming Soon!\n\n \n\nIndependent Living at Traditions of Lansdale creates the opportunity for you to live with all the freedom and flexibility you crave and none of the at-home maintenance. Step into an entirely new routine when you call Traditions of Lansdale home. Start your day with a fresh haircut at our onsite salon. Head out into Lansdale\, Pennsylvania\, and grab a cup of coffee before walking through the neighborhood park for some fresh air. Then return home for a fun activity with friends or relax in your private apartment.
X-ALT-DESC;FMTTYPE=text/html:<div><span style="font-size:14px\;"><span style="font-family:arial\;"><span style="font-size:18px\;"><strong><em>Independent Living in Lansdale\, Pennsylvania is Coming Soon!</em></strong></span></span></span><br />\n&nbsp\;</div>\n\n<p style="box-sizing: border-box\; font-size: 20px\; margin-left: auto\; margin-right: auto\; font-family: europa\, sans-serif\; color: rgb(68\, 68\, 68)\;"><span style="font-size:18px\;"><span style="font-family:arial\;">Independent Living at Traditions of Lansdale creates the opportunity for you to live with all the freedom and flexibility you crave and none of the at-home maintenance. Step into an entirely new routine when you call Traditions of Lansdale home. Start your day with a fresh haircut at our onsite salon. Head out into Lansdale\, Pennsylvania\, and grab a cup of coffee before walking through the neighborhood park for some fresh air. Then return home for a fun activity with friends or relax in your private apartment.</span></span></p>\n
LOCATION:Traditions of Lansdale 1800 Walnut Street Lansdale\, PA 19446
UID:e.2385.12033
SEQUENCE:3
DTSTAMP:20260420T083450Z
URL:https://business.chambergmc.org/events/details/you-re-invited-to-a-sneak-peek-at-our-new-independent-living-12033
END:VEVENT

END:VCALENDAR
