BEGIN:VCALENDAR
VERSION:2.0
PRODID:-//ChamberMaster//Event Calendar 2.0//EN
METHOD:PUBLISH
X-PUBLISHED-TTL:P3D
REFRESH-INTERVAL:P3D
CALSCALE:GREGORIAN
BEGIN:VEVENT
DTSTART:20180113T180000Z
DTEND:20180113T200000Z
X-MICROSOFT-CDO-ALLDAYEVENT:FALSE
SUMMARY:Zumbathon
DESCRIPTION:Come join us for our 3rd annual zumbathon! You will spend two hours getting a work out in while having an amazingly fun time. Make new friends and maybe discover a new workout that will keep you on track for your goal to get healthy or stay healthy in 2018. The cost is $20 if you get your ticket prior to the event or $25 at the door. You can get your tickets at www.hungerherozumbathon.eventbrite.com
X-ALT-DESC;FMTTYPE=text/html:Come join us for our 3rd annual zumbathon! You will spend two hours getting a work out in while having an amazingly fun time. Make new friends and maybe discover a new workout that will keep you on track for your goal to get healthy or stay healthy in 2018. The cost is $20 if you get your ticket prior to the event or $25 at the door. You can get your tickets at www.hungerherozumbathon.eventbrite.com
LOCATION:St Maria Goretti\, Hatfield\, PA
UID:e.2385.2658
SEQUENCE:3
DTSTAMP:20260421T132916Z
URL:https://business.chambergmc.org/events/details/zumbathon-01-13-2018-2658
END:VEVENT

END:VCALENDAR
